<Capabilities xmlns="http://www.opengis.net/wmts/1.0" xmlns:ows="http://www.opengis.net/ows/1.1" xmlns:xlink="http://www.w3.org/1999/xlink" xmlns:xsi="http://www.w3.org/2001/XMLSchema-instance" xmlns:gml="http://www.opengis.net/gml" xsi:schemaLocation="http://www.opengis.net/wmts/1.0 http://schemas.opengis.net/wmts/1.0/wmtsGetCapabilities_response.xsd" version="1.0.0"><!-- Service Identification --> <ows:ServiceIdentification><ows:Title>Subways</ows:Title><ows:ServiceType>OGC WMTS</ows:ServiceType><ows:ServiceTypeVersion>1.0.0</ows:ServiceTypeVersion><Abstract xmlns="ows">This dataset contains separate shape files for the four major TTC routes (lines), as well as a consolidated shape file for all four routes.</Abstract><ows:Keywords><Keyword xmlns="ows">Data</Keyword><Keyword xmlns="ows">Service</Keyword><Keyword xmlns="ows">Map Service</Keyword><Keyword xmlns="ows">ArcGIS Server</Keyword><Keyword xmlns="ows">WMTS</Keyword><Keyword xmlns="ows">Hosted Service</Keyword><Keyword xmlns="ows">Metadata</Keyword><Keyword xmlns="ows">One &amp; another &amp;quot; third</Keyword></ows:Keywords></ows:ServiceIdentification><!-- Operations Metadata --><ows:OperationsMetadata><ows:Operation name="GetCapabilities"><ows:DCP><ows:HTTP><ows:Get xlink:href="https://servicesdev.arcgis.com/LkFyxb9zDq7vAOAm/ArcGIS/rest/services/TTC_Subways/MapServer/WMTS/1.0.0/WMTSCapabilities.xml"><ows:Constraint name="GetEncoding"><ows:AllowedValues> <ows:Value>RESTful</ows:Value></ows:AllowedValues></ows:Constraint> </ows:Get><ows:Get xlink:href="https://servicesdev.arcgis.com/LkFyxb9zDq7vAOAm/ArcGIS/rest/services/TTC_Subways/MapServer/WMTS?"> <ows:Constraint name="GetEncoding"><ows:AllowedValues><ows:Value>KVP</ows:Value></ows:AllowedValues></ows:Constraint></ows:Get></ows:HTTP></ows:DCP></ows:Operation><ows:Operation name="GetTile"><ows:DCP><ows:HTTP><ows:Get xlink:href="https://servicesdev.arcgis.com/LkFyxb9zDq7vAOAm/ArcGIS/rest/services/TTC_Subways/MapServer/WMTS/tile/1.0.0/"><ows:Constraint name="GetEncoding"><ows:AllowedValues><ows:Value>RESTful</ows:Value></ows:AllowedValues></ows:Constraint></ows:Get><ows:Get xlink:href="https://servicesdev.arcgis.com/LkFyxb9zDq7vAOAm/ArcGIS/rest/services/TTC_Subways/MapServer/WMTS?"><ows:Constraint name="GetEncoding"><ows:AllowedValues><ows:Value>KVP</ows:Value></ows:AllowedValues></ows:Constraint></ows:Get></ows:HTTP></ows:DCP></ows:Operation></ows:OperationsMetadata><!-- Contents --><Contents><!-- Layer --><Layer><ows:Title>TTC_Subways</ows:Title><ows:Identifier>TTC_Subways</ows:Identifier><ows:Metadata xlink:href="https://devext.arcgis.com/sharing/rest/content/items/6d0ef8e338894aa79df8d8c0975a5835/info/metadata/metadata.xml?format=default" /><ows:BoundingBox crs="urn:ogc:def:crs:EPSG::3857"><ows:LowerCorner>-8853840.45123473 5409561.69289067</ows:LowerCorner><ows:UpperCorner>-8822189.09075995 5434045.85715759</ows:UpperCorner></ows:BoundingBox><ows:WGS84BoundingBox crs="urn:ogc:def:crs:OGC:2:84"><ows:LowerCorner>-79.5354020049984 43.6378050042977</ows:LowerCorner><ows:UpperCorner>-79.2510729962216 43.7967720029258</ows:UpperCorner></ows:WGS84BoundingBox><Style isDefault="true"><ows:Title>Default Style</ows:Title><ows:Identifier>default</ows:Identifier></Style><Format>image/png</Format><TileMatrixSetLink><TileMatrixSet>default028mm</TileMatrixSet></TileMatrixSetLink><ResourceURL format="image/png" resourceType="tile" template="https://servicesdev.arcgis.com/LkFyxb9zDq7vAOAm/ArcGIS/rest/services/TTC_Subways/MapServer/WMTS/tile/1.0.0/TTC_Subways/{Style}/{TileMatrixSet}/{TileMatrix}/{TileRow}/{TileCol}.png"/></Layer><!-- Tile Matrix Set --><TileMatrixSet><ows:Title>TileMatrix using 0.28mm</ows:Title><ows:Abstract>The tile matrix set that has scale values calculated based on the dpi defined by OGC specification (dpi assumes 0.28mm as the physical distance of a pixel).</ows:Abstract><ows:Identifier>default028mm</ows:Identifier><ows:SupportedCRS>urn:ogc:def:crs:EPSG::3857</ows:SupportedCRS><TileMatrix><ows:Identifier>0</ows:Identifier><ScaleDenominator>559081145.864044</ScaleDenominator><TopLeftCorner>-20037508.342787 20037508.342787</TopLeftCorner><TileWidth>256</TileWidth> <TileHeight>256</TileHeight><MatrixWidth>1</MatrixWidth><MatrixHeight>1</MatrixHeight></TileMatrix><TileMatrix><ows:Identifier>1</ows:Identifier><ScaleDenominator>279540572.932021</ScaleDenominator><TopLeftCorner>-20037508.342787 20037508.342787</TopLeftCorner><TileWidth>256</TileWidth> <TileHeight>256</TileHeight><MatrixWidth>1</MatrixWidth><MatrixHeight>1</MatrixHeight></TileMatrix><TileMatrix><ows:Identifier>2</ows:Identifier><ScaleDenominator>139770286.466011</ScaleDenominator><TopLeftCorner>-20037508.342787 20037508.342787</TopLeftCorner><TileWidth>256</TileWidth> <TileHeight>256</TileHeight><MatrixWidth>2</MatrixWidth><MatrixHeight>2</MatrixHeight></TileMatrix><TileMatrix><ows:Identifier>3</ows:Identifier><ScaleDenominator>69885143.2330051</ScaleDenominator><TopLeftCorner>-20037508.342787 20037508.342787</TopLeftCorner><TileWidth>256</TileWidth> <TileHeight>256</TileHeight><MatrixWidth>3</MatrixWidth><MatrixHeight>3</MatrixHeight></TileMatrix><TileMatrix><ows:Identifier>4</ows:Identifier><ScaleDenominator>34942571.6165026</ScaleDenominator><TopLeftCorner>-20037508.342787 20037508.342787</TopLeftCorner><TileWidth>256</TileWidth> <TileHeight>256</TileHeight><MatrixWidth>5</MatrixWidth><MatrixHeight>6</MatrixHeight></TileMatrix><TileMatrix><ows:Identifier>5</ows:Identifier><ScaleDenominator>17471285.8082513</ScaleDenominator><TopLeftCorner>-20037508.342787 20037508.342787</TopLeftCorner><TileWidth>256</TileWidth> <TileHeight>256</TileHeight><MatrixWidth>9</MatrixWidth><MatrixHeight>12</MatrixHeight></TileMatrix><TileMatrix><ows:Identifier>6</ows:Identifier><ScaleDenominator>8735642.90412564</ScaleDenominator><TopLeftCorner>-20037508.342787 20037508.342787</TopLeftCorner><TileWidth>256</TileWidth> <TileHeight>256</TileHeight><MatrixWidth>18</MatrixWidth><MatrixHeight>24</MatrixHeight></TileMatrix><TileMatrix><ows:Identifier>7</ows:Identifier><ScaleDenominator>4367821.45206282</ScaleDenominator><TopLeftCorner>-20037508.342787 20037508.342787</TopLeftCorner><TileWidth>256</TileWidth> <TileHeight>256</TileHeight><MatrixWidth>36</MatrixWidth><MatrixHeight>47</MatrixHeight></TileMatrix><TileMatrix><ows:Identifier>8</ows:Identifier><ScaleDenominator>2183910.72603188</ScaleDenominator><TopLeftCorner>-20037508.342787 20037508.342787</TopLeftCorner><TileWidth>256</TileWidth> <TileHeight>256</TileHeight><MatrixWidth>72</MatrixWidth><MatrixHeight>94</MatrixHeight></TileMatrix><TileMatrix><ows:Identifier>9</ows:Identifier><ScaleDenominator>1091955.36301547</ScaleDenominator><TopLeftCorner>-20037508.342787 20037508.342787</TopLeftCorner><TileWidth>256</TileWidth> <TileHeight>256</TileHeight><MatrixWidth>144</MatrixWidth><MatrixHeight>187</MatrixHeight></TileMatrix><TileMatrix><ows:Identifier>10</ows:Identifier><ScaleDenominator>545977.681508207</ScaleDenominator><TopLeftCorner>-20037508.342787 20037508.342787</TopLeftCorner><TileWidth>256</TileWidth> <TileHeight>256</TileHeight><MatrixWidth>287</MatrixWidth><MatrixHeight>374</MatrixHeight></TileMatrix><TileMatrix><ows:Identifier>11</ows:Identifier><ScaleDenominator>272988.840753631</ScaleDenominator><TopLeftCorner>-20037508.342787 20037508.342787</TopLeftCorner><TileWidth>256</TileWidth> <TileHeight>256</TileHeight><MatrixWidth>574</MatrixWidth><MatrixHeight>748</MatrixHeight></TileMatrix><TileMatrix><ows:Identifier>12</ows:Identifier><ScaleDenominator>136494.420376815</ScaleDenominator><TopLeftCorner>-20037508.342787 20037508.342787</TopLeftCorner><TileWidth>256</TileWidth> <TileHeight>256</TileHeight><MatrixWidth>1147</MatrixWidth><MatrixHeight>1496</MatrixHeight></TileMatrix><TileMatrix><ows:Identifier>13</ows:Identifier><ScaleDenominator>68247.2101884077</ScaleDenominator><TopLeftCorner>-20037508.342787 20037508.342787</TopLeftCorner><TileWidth>256</TileWidth> <TileHeight>256</TileHeight><MatrixWidth>2293</MatrixWidth><MatrixHeight>2991</MatrixHeight></TileMatrix><TileMatrix><ows:Identifier>14</ows:Identifier><ScaleDenominator>34123.6050942039</ScaleDenominator><TopLeftCorner>-20037508.342787 20037508.342787</TopLeftCorner><TileWidth>256</TileWidth> <TileHeight>256</TileHeight><MatrixWidth>4586</MatrixWidth><MatrixHeight>5981</MatrixHeight></TileMatrix><TileMatrix><ows:Identifier>15</ows:Identifier><ScaleDenominator>17061.8025475744</ScaleDenominator><TopLeftCorner>-20037508.342787 20037508.342787</TopLeftCorner><TileWidth>256</TileWidth> <TileHeight>256</TileHeight><MatrixWidth>9171</MatrixWidth><MatrixHeight>11961</MatrixHeight></TileMatrix><TileMatrix><ows:Identifier>16</ows:Identifier><ScaleDenominator>8530.9012737872</ScaleDenominator><TopLeftCorner>-20037508.342787 20037508.342787</TopLeftCorner><TileWidth>256</TileWidth> <TileHeight>256</TileHeight><MatrixWidth>18341</MatrixWidth><MatrixHeight>23922</MatrixHeight></TileMatrix><TileMatrix><ows:Identifier>17</ows:Identifier><ScaleDenominator>4265.45063642113</ScaleDenominator><TopLeftCorner>-20037508.342787 20037508.342787</TopLeftCorner><TileWidth>256</TileWidth> <TileHeight>256</TileHeight><MatrixWidth>36682</MatrixWidth><MatrixHeight>47844</MatrixHeight></TileMatrix><TileMatrix><ows:Identifier>18</ows:Identifier><ScaleDenominator>2132.72531868304</ScaleDenominator><TopLeftCorner>-20037508.342787 20037508.342787</TopLeftCorner><TileWidth>256</TileWidth> <TileHeight>256</TileHeight><MatrixWidth>73364</MatrixWidth><MatrixHeight>95687</MatrixHeight></TileMatrix><TileMatrix><ows:Identifier>19</ows:Identifier><ScaleDenominator>1066.36265886905</ScaleDenominator><TopLeftCorner>-20037508.342787 20037508.342787</TopLeftCorner><TileWidth>256</TileWidth> <TileHeight>256</TileHeight><MatrixWidth>146727</MatrixWidth><MatrixHeight>191373</MatrixHeight></TileMatrix><TileMatrix><ows:Identifier>20</ows:Identifier><ScaleDenominator>533.181329434524</ScaleDenominator><TopLeftCorner>-20037508.342787 20037508.342787</TopLeftCorner><TileWidth>256</TileWidth> <TileHeight>256</TileHeight><MatrixWidth>293453</MatrixWidth><MatrixHeight>382746</MatrixHeight></TileMatrix><TileMatrix><ows:Identifier>21</ows:Identifier><ScaleDenominator>266.590664717262</ScaleDenominator><TopLeftCorner>-20037508.342787 20037508.342787</TopLeftCorner><TileWidth>256</TileWidth> <TileHeight>256</TileHeight><MatrixWidth>586906</MatrixWidth><MatrixHeight>765491</MatrixHeight></TileMatrix><TileMatrix><ows:Identifier>22</ows:Identifier><ScaleDenominator>133.295332358631</ScaleDenominator><TopLeftCorner>-20037508.342787 20037508.342787</TopLeftCorner><TileWidth>256</TileWidth> <TileHeight>256</TileHeight><MatrixWidth>1173811</MatrixWidth><MatrixHeight>1530981</MatrixHeight></TileMatrix></TileMatrixSet></Contents><ServiceMetadataURL xlink:href="https://servicesdev.arcgis.com/LkFyxb9zDq7vAOAm/ArcGIS/rest/services/TTC_Subways/MapServer/WMTS/1.0.0/WMTSCapabilities.xml"/></Capabilities>