ArcGIS REST Services Directory
Home
>
services
>
NewZealandNelson (MapServer)
|
API Reference
JSON
WMTS
PBF
NewZealandNelson (MapServer)
View In:
WMTS
Map Viewer
Current Version
Service Description:
test
Abstract:
N/A
Metadata URI:
N/A
Keywords:
Map Name:
NewZealandNelson
Capabilities:
Map,TilesOnly,Tilemap
Description:
Copyright Text:
Spatial Reference:
2193 (2193)
Legend
All Layers and Tables
Layers:
New Zealand
(0)
Single Fused Map Cache:
true
Export Tiles Allowed:
False
Max Tiles Export Count:
100000
Cache on Demand:
False
Tile Info:
Height:
256
Width:
256
DPI:
96
Levels of Detail:
(# Levels: 20)
Level ID:
0 [
Start Tile
,
End Tile
]
Resolution:
264.583862501058
Scale:
1000000
Level ID:
1 [
Start Tile
,
End Tile
]
Resolution:
132.291931250529
Scale:
500000
Level ID:
2 [
Start Tile
,
End Tile
]
Resolution:
66.1459656252646
Scale:
250000
Level ID:
3 [
Start Tile
,
End Tile
]
Resolution:
26.4583862501058
Scale:
100000
Level ID:
4 [
Start Tile
,
End Tile
]
Resolution:
13.2291931250529
Scale:
50000
Level ID:
5 [
Start Tile
,
End Tile
]
Resolution:
6.61459656252646
Scale:
25000
Level ID:
6 [
Start Tile
,
End Tile
]
Resolution:
5.29167725002117
Scale:
20000
Level ID:
7 [
Start Tile
,
End Tile
]
Resolution:
3.96875793751588
Scale:
15000
Level ID:
8 [
Start Tile
,
End Tile
]
Resolution:
2.64583862501058
Scale:
10000
Level ID:
9 [
Start Tile
,
End Tile
]
Resolution:
1.98437896875794
Scale:
7500
Level ID:
10 [
Start Tile
,
End Tile
]
Resolution:
1.32291931250529
Scale:
5000
Level ID:
11 [
Start Tile
,
End Tile
]
Resolution:
1.05833545000423
Scale:
4000
Level ID:
12 [
Start Tile
,
End Tile
]
Resolution:
0.793751587503175
Scale:
3000
Level ID:
13 [
Start Tile
,
End Tile
]
Resolution:
0.661459656252646
Scale:
2500
Level ID:
14 [
Start Tile
,
End Tile
]
Resolution:
0.529167725002117
Scale:
2000
Level ID:
15 [
Start Tile
,
End Tile
]
Resolution:
0.396875793751588
Scale:
1500
Level ID:
16 [
Start Tile
,
End Tile
]
Resolution:
0.264583862501058
Scale:
1000
Level ID:
17 [
Start Tile
,
End Tile
]
Resolution:
0.198437896875794
Scale:
750
Level ID:
18 [
Start Tile
,
End Tile
]
Resolution:
0.132291931250529
Scale:
500
Level ID:
19 [
Start Tile
,
End Tile
]
Resolution:
0.0661459656252646
Scale:
250
Format:
PNG32
Compression Quality:
0
Origin:
X:
-4020900
Y:
19998100
Spatial Reference:
2193 (2193)
Initial Extent:
XMin: 1611371.60678616
YMin: 5417049.61403581
XMax: 1632730.78317427
YMax: 5429195.28885511
Full Extent:
XMin: 1611371.60678616
YMin: 5413563.57251183
XMax: 1632730.78317427
YMax: 5429195.28885511
Min. Scale:
278984
Max. Scale:
250
Min LOD:
2
Max LOD:
19
Units:
esriMeters
Supported Image Format Types:
Supported Operations:
Export Tiles